BEGIN:VCALENDAR
VERSION:2.0
PRODID:-//Mary Wesley - ECPv6.13.2.1//NONSGML v1.0//EN
CALSCALE:GREGORIAN
METHOD:PUBLISH
X-WR-CALNAME:Mary Wesley
X-ORIGINAL-URL:https://www.marywesley.com
X-WR-CALDESC:Events for Mary Wesley
REFRESH-INTERVAL;VALUE=DURATION:PT1H
X-Robots-Tag:noindex
X-PUBLISHED-TTL:PT1H
BEGIN:VTIMEZONE
TZID:UTC
BEGIN:STANDARD
TZOFFSETFROM:+0000
TZOFFSETTO:+0000
TZNAME:UTC
DTSTART:20250101T000000
END:STANDARD
END:VTIMEZONE
BEGIN:VEVENT
DTSTART;TZID=UTC:20250329T194500
DTEND;TZID=UTC:20250329T230000
DTSTAMP:20260424T131736
CREATED:20250118T170207Z
LAST-MODIFIED:20250118T170207Z
UID:7085-1743277500-1743289200@www.marywesley.com
SUMMARY:Montpelier Contra Dance
DESCRIPTION:Music by the Young Tradition Vermont Touring Group! \nLesson at 7:45 pm \nAdmission is $12 for adults\, $5 for kids or low-income\, $20 for dance supporters–choose the right price for your budget!
URL:https://www.marywesley.com/gig/montpelier-contra-dance-2/
LOCATION:CO
CATEGORIES:Contra
ATTACH;FMTTYPE=image/png:https://www.marywesley.com/wp-content/uploads/2025/01/YTV-TG-Contra.png
END:VEVENT
END:VCALENDAR