BEGIN:VCALENDAR
VERSION:2.0
PRODID:-//Mary Wesley - ECPv6.13.2.1//NONSGML v1.0//EN
CALSCALE:GREGORIAN
METHOD:PUBLISH
X-WR-CALNAME:Mary Wesley
X-ORIGINAL-URL:https://www.marywesley.com
X-WR-CALDESC:Events for Mary Wesley
REFRESH-INTERVAL;VALUE=DURATION:PT1H
X-Robots-Tag:noindex
X-PUBLISHED-TTL:PT1H
BEGIN:VTIMEZONE
TZID:UTC
BEGIN:STANDARD
TZOFFSETFROM:+0000
TZOFFSETTO:+0000
TZNAME:UTC
DTSTART:20260101T000000
END:STANDARD
END:VTIMEZONE
BEGIN:VEVENT
DTSTART;VALUE=DATE:20260313
DTEND;VALUE=DATE:20260316
DTSTAMP:20260423T191629
CREATED:20251024T215328Z
LAST-MODIFIED:20251024T215328Z
UID:7202-1773360000-1773619199@www.marywesley.com
SUMMARY:Beantown Stomp!
DESCRIPTION:Beantown Stomp is an annual\, non-residential contra dance weekend held in the Boston area\, organized by the BIDA (Boston Intergenerational Dance Advocates). \n2025 Lineup: \nCallers: Mary Wesley and Isaac Banner \nBands: Root System (Amy\, Audrey\, and Anna) and the Faux Paws (Chris\, Noah\, Owen)
URL:https://www.marywesley.com/gig/beantown-stomp/
LOCATION:Cambridge Masonic Hall\, 1950 Mass Ave\, Cambridge\, MA\, United States
CATEGORIES:Dance Weekend
ATTACH;FMTTYPE=image/jpeg:https://www.marywesley.com/wp-content/uploads/2025/10/Mary-Wesley-by-Robyn-Nicole.jpeg
END:VEVENT
END:VCALENDAR