BEGIN:VCALENDAR
VERSION:2.0
PRODID:-//Mary Wesley - ECPv6.13.2.1//NONSGML v1.0//EN
CALSCALE:GREGORIAN
METHOD:PUBLISH
X-ORIGINAL-URL:https://www.marywesley.com
X-WR-CALDESC:Events for Mary Wesley
REFRESH-INTERVAL;VALUE=DURATION:PT1H
X-Robots-Tag:noindex
X-PUBLISHED-TTL:PT1H
BEGIN:VTIMEZONE
TZID:UTC
BEGIN:STANDARD
TZOFFSETFROM:+0000
TZOFFSETTO:+0000
TZNAME:UTC
DTSTART:20260101T000000
END:STANDARD
END:VTIMEZONE
BEGIN:VEVENT
DTSTART;TZID=UTC:20260410T190000
DTEND;TZID=UTC:20260410T210000
DTSTAMP:20260423T173859
CREATED:20260114T190311Z
LAST-MODIFIED:20260114T190311Z
UID:7226-1775847600-1775854800@www.marywesley.com
SUMMARY:Treewild - Masque Ball or... Bal masqué: a balfolk dance
DESCRIPTION:This evening will be an EVENT – dress as fabulously as you can imagine\, and bring or make a mask. \nDances will be from the French balfolk tradition – think of contra or swing dancing with a lot of freedom and improvisation. \nMusic by MALVEN \nDances called and taught by Mary Wesley \nAll dances will be taught in the first hour\, and the rest of the night is for kicking up your heels and finding a joyful freedom in the music! \nThis evening is an official Prom-Alternative. All friends are welcome\, with all kinds of fabulous outfits\, gender nonconforming celebrated.
URL:https://www.marywesley.com/gig/treewild-masque-ball-or-bal-masque-a-balfolk-dance/
LOCATION:TBD
CATEGORIES:Balfolk
ATTACH;FMTTYPE=image/webp:https://www.marywesley.com/wp-content/uploads/2026/01/Treewild-Balfolk-Bal.webp
END:VEVENT
END:VCALENDAR