BEGIN:VCALENDAR
VERSION:2.0
PRODID:-//Mary Wesley - ECPv6.13.2.1//NONSGML v1.0//EN
CALSCALE:GREGORIAN
METHOD:PUBLISH
X-ORIGINAL-URL:https://www.marywesley.com
X-WR-CALDESC:Events for Mary Wesley
REFRESH-INTERVAL;VALUE=DURATION:PT1H
X-Robots-Tag:noindex
X-PUBLISHED-TTL:PT1H
BEGIN:VTIMEZONE
TZID:UTC
BEGIN:STANDARD
TZOFFSETFROM:+0000
TZOFFSETTO:+0000
TZNAME:UTC
DTSTART:20260101T000000
END:STANDARD
END:VTIMEZONE
BEGIN:VEVENT
DTSTART;TZID=UTC:20260307T200000
DTEND;TZID=UTC:20260307T230000
DTSTAMP:20260423T204936
CREATED:20251024T213944Z
LAST-MODIFIED:20251024T213944Z
UID:7200-1772913600-1772924400@www.marywesley.com
SUMMARY:Montpelier Contra Dance with Stove Dragon! 🐉
DESCRIPTION:Music by Stove Dragon!
URL:https://www.marywesley.com/gig/montpelier-contra-dance-with-stove-dragon-%f0%9f%90%89/
LOCATION:Capital City Grange\, 6612 VT Route 12\, Berlin\, 05602\, United States
CATEGORIES:Contra
ATTACH;FMTTYPE=image/jpeg:https://www.marywesley.com/wp-content/uploads/2025/07/IMG_8849-scaled.jpg
ORGANIZER;CN="Montpelier Contra Dance":MAILTO:cdu.tim@gmail.com
END:VEVENT
BEGIN:VEVENT
DTSTART;TZID=UTC:20260329T143000
DTEND;TZID=UTC:20260329T173000
DTSTAMP:20260423T204936
CREATED:20260222T195746Z
LAST-MODIFIED:20260222T195746Z
UID:7232-1774794600-1774805400@www.marywesley.com
SUMMARY:Sutton Contra Dance
DESCRIPTION:Contra dancing in the beautiful village of Sutton\, QC!\n\nRoyal Canadian Legion – Sutton\n2 Rue Curley\, Sutton\, QC J0E 2K0 (map here!)\nMusic from Tristan Henderson and Willy leMaistre
URL:https://www.marywesley.com/gig/sutton-contra-dance/
LOCATION:Royal Canadian Legion\, 2 Rue Curley\, Sutton\, QC\, J0E 2K0\, Canada
CATEGORIES:Contra
ATTACH;FMTTYPE=image/jpeg:https://www.marywesley.com/wp-content/uploads/2020/11/IMG_6350-scaled-e1606604396241.jpg
END:VEVENT
END:VCALENDAR