BEGIN:VCALENDAR
VERSION:2.0
PRODID:-//Mary Wesley - ECPv6.13.2.1//NONSGML v1.0//EN
CALSCALE:GREGORIAN
METHOD:PUBLISH
X-ORIGINAL-URL:https://www.marywesley.com
X-WR-CALDESC:Events for Mary Wesley
REFRESH-INTERVAL;VALUE=DURATION:PT1H
X-Robots-Tag:noindex
X-PUBLISHED-TTL:PT1H
BEGIN:VTIMEZONE
TZID:UTC
BEGIN:STANDARD
TZOFFSETFROM:+0000
TZOFFSETTO:+0000
TZNAME:UTC
DTSTART:20260101T000000
END:STANDARD
END:VTIMEZONE
BEGIN:VEVENT
DTSTART;VALUE=DATE:20260424
DTEND;VALUE=DATE:20260427
DTSTAMP:20260423T174025
CREATED:20260113T211448Z
LAST-MODIFIED:20260113T211448Z
UID:7221-1776988800-1777247999@www.marywesley.com
SUMMARY:Spring Dance Romance
DESCRIPTION:Triangle Country Dancers invites you to join us for Spring Dance Romance 2026\, our annual spring weekend! \nDates: Friday\, April 24th – Sunday\, April 26th\, 2026 \nWe’ll be dancing to: \nSpintuition: Samuel Foucher\, Willy Clemetson\, and Silas Hamilton (contra) \nPotato Factory: Audrey Jaber\, Brian Lindsay\, Alex Sturbaum\, and Ness Smith-Savedoff (contra) \nKaren Axelrod and Molly Tucker (English) \nWith calling by: \nJanine Smith (contra)\, Mary Wesley (contra)\, and Gaye Fifer (English) \nWe’re dancing in Carrboro again this year! In addition to our usual full weekend of contra dancing\, we have a lovely English Country Dance program\, with evening ECD in our second space both Friday and Saturday evenings as well as some workshops throughout the day Saturday.
URL:https://www.marywesley.com/gig/spring-dance-romance/
LOCATION:Carrboro Century Center\, 100 N. Greensboro St\, Carrboro\, NC\, 27510\, United States
CATEGORIES:Contra,Dance Weekend
ATTACH;FMTTYPE=image/jpeg:https://www.marywesley.com/wp-content/uploads/2026/01/spring-dance-romance.jpeg
END:VEVENT
BEGIN:VEVENT
DTSTART;TZID=UTC:20260515T200000
DTEND;TZID=UTC:20260515T230000
DTSTAMP:20260423T174025
CREATED:20251024T221245Z
LAST-MODIFIED:20251024T221306Z
UID:7207-1778875200-1778886000@www.marywesley.com
SUMMARY:Greenfield Contra Dance
DESCRIPTION:
URL:https://www.marywesley.com/gig/greenfield-contra-dance/
LOCATION:Guiding Star Grange\, 401 Chapman St\, Greenfield\, MA\, United States
CATEGORIES:Contra
ATTACH;FMTTYPE=image/jpeg:https://www.marywesley.com/wp-content/uploads/2018/01/listen-to-the-caller-1-e1516417898734.jpg
END:VEVENT
BEGIN:VEVENT
DTSTART;TZID=UTC:20260524T170000
DTEND;TZID=UTC:20260524T230000
DTSTAMP:20260423T174025
CREATED:20260222T201209Z
LAST-MODIFIED:20260222T201209Z
UID:7236-1779642000-1779663600@www.marywesley.com
SUMMARY:Peterborough Spring Blossom Ball
DESCRIPTION:Two bands – two callers – so much fun! \nMary Wesley & Adina Gordon \nMusic from River Road and The Mean Lids
URL:https://www.marywesley.com/gig/peterborough-spring-blossom-ball/
LOCATION:Peterborough Town House\, 1 Grove St\, Peterborough\, NH\, United States
CATEGORIES:Contra
ATTACH;FMTTYPE=image/jpeg:https://www.marywesley.com/wp-content/uploads/2020/12/IMG_6986.jpg
END:VEVENT
BEGIN:VEVENT
DTSTART;TZID=UTC:20260607T183000
DTEND;TZID=UTC:20260607T213000
DTSTAMP:20260423T174025
CREATED:20260314T192717Z
LAST-MODIFIED:20260314T192717Z
UID:7241-1780857000-1780867800@www.marywesley.com
SUMMARY:Montreal Contra Dance
DESCRIPTION:
URL:https://www.marywesley.com/gig/montreal-contra-dance/
LOCATION:Patro Villeray\, 7355 Av Christophe-Colomb\, Montreal\, QC\, Canada
CATEGORIES:Contra
ATTACH;FMTTYPE=image/png:https://www.marywesley.com/wp-content/uploads/2020/11/1-Web-home - Edited image w:posse.png
END:VEVENT
BEGIN:VEVENT
DTSTART;TZID=UTC:20261107T080000
DTEND;TZID=UTC:20261107T230000
DTSTAMP:20260423T174025
CREATED:20260315T214634Z
LAST-MODIFIED:20260315T215535Z
UID:7243-1794038400-1794092400@www.marywesley.com
SUMMARY:Montpelier Contra Dance
DESCRIPTION:With music from Colin McCaffrey and Geordie Lynd
URL:https://www.marywesley.com/gig/montpelier-contra-dance-3/
LOCATION:Capital City Grange\, 6612 VT Route 12\, Berlin\, 05602\, United States
CATEGORIES:Contra
ATTACH;FMTTYPE=image/jpeg:https://www.marywesley.com/wp-content/uploads/2025/07/IMG_8849-scaled.jpg
ORGANIZER;CN="Montpelier Contra Dance":MAILTO:cdu.tim@gmail.com
END:VEVENT
END:VCALENDAR