BEGIN:VCALENDAR
VERSION:2.0
PRODID:-//Mary Wesley - ECPv6.13.2.1//NONSGML v1.0//EN
CALSCALE:GREGORIAN
METHOD:PUBLISH
X-WR-CALNAME:Mary Wesley
X-ORIGINAL-URL:https://www.marywesley.com
X-WR-CALDESC:Events for Mary Wesley
REFRESH-INTERVAL;VALUE=DURATION:PT1H
X-Robots-Tag:noindex
X-PUBLISHED-TTL:PT1H
BEGIN:VTIMEZONE
TZID:UTC
BEGIN:STANDARD
TZOFFSETFROM:+0000
TZOFFSETTO:+0000
TZNAME:UTC
DTSTART:20260101T000000
END:STANDARD
END:VTIMEZONE
BEGIN:VEVENT
DTSTART;VALUE=DATE:20260424
DTEND;VALUE=DATE:20260427
DTSTAMP:20260423T173825
CREATED:20260113T211448Z
LAST-MODIFIED:20260113T211448Z
UID:7221-1776988800-1777247999@www.marywesley.com
SUMMARY:Spring Dance Romance
DESCRIPTION:Triangle Country Dancers invites you to join us for Spring Dance Romance 2026\, our annual spring weekend! \nDates: Friday\, April 24th – Sunday\, April 26th\, 2026 \nWe’ll be dancing to: \nSpintuition: Samuel Foucher\, Willy Clemetson\, and Silas Hamilton (contra) \nPotato Factory: Audrey Jaber\, Brian Lindsay\, Alex Sturbaum\, and Ness Smith-Savedoff (contra) \nKaren Axelrod and Molly Tucker (English) \nWith calling by: \nJanine Smith (contra)\, Mary Wesley (contra)\, and Gaye Fifer (English) \nWe’re dancing in Carrboro again this year! In addition to our usual full weekend of contra dancing\, we have a lovely English Country Dance program\, with evening ECD in our second space both Friday and Saturday evenings as well as some workshops throughout the day Saturday.
URL:https://www.marywesley.com/gig/spring-dance-romance/
LOCATION:Carrboro Century Center\, 100 N. Greensboro St\, Carrboro\, NC\, 27510\, United States
CATEGORIES:Contra,Dance Weekend
ATTACH;FMTTYPE=image/jpeg:https://www.marywesley.com/wp-content/uploads/2026/01/spring-dance-romance.jpeg
END:VEVENT
BEGIN:VEVENT
DTSTART;VALUE=DATE:20260817
DTEND;VALUE=DATE:20260824
DTSTAMP:20260423T173825
CREATED:20251024T222524Z
LAST-MODIFIED:20251024T222524Z
UID:7210-1786924800-1787529599@www.marywesley.com
SUMMARY:Cascade of Music and Dance at Kweebec (Family Dance Camp Week)
DESCRIPTION:Cascade at Camp Kweebec\, located north of Philadelphia\, is a full week of music\, art\, and community for adults and families\, celebrating the living traditions of song and dance. Program director Stefan Amidon will lead a cast of thousands. \nLearn more and register here.
URL:https://www.marywesley.com/gig/cascade-of-music-and-dance-at-kweebec-family-dance-camp-week-2/
LOCATION:Camp Kweebec\, 157 Game Farm Rd\, Schwenksville\, PA\, 19473\, United States
CATEGORIES:Dance Weekend
ATTACH;FMTTYPE=image/jpeg:https://www.marywesley.com/wp-content/uploads/2025/01/Cascade-.jpg
END:VEVENT
BEGIN:VEVENT
DTSTART;VALUE=DATE:20260904
DTEND;VALUE=DATE:20260908
DTSTAMP:20260423T173825
CREATED:20260315T215459Z
LAST-MODIFIED:20260315T215459Z
UID:7245-1788480000-1788825599@www.marywesley.com
SUMMARY:Rocky Mountain Rendezvous - Boulder\, CO
DESCRIPTION:The Rocky Mountain Rendezvous is a fun-filled\, 4-day contra dance event held each Labor Day Weekend at the lovely Avalon Ballroom in Boulder\, Colorado. It is hosted by Colorado Friends of Old Time Music and Dance. \n\n\nMusic by River Road and The Dam Beavers. Calling by Mary Wesley and Jeremy Korr.
URL:https://www.marywesley.com/gig/rocky-mountain-rendezvous-boulder-co/
LOCATION:Avalon Ballroom\, 6185 Arapahoe\, Boulder\, CO\, United States
CATEGORIES:Dance Weekend
ATTACH;FMTTYPE=image/jpeg:https://www.marywesley.com/wp-content/uploads/2025/10/Mary-Wesley-by-Robyn-Nicole.jpeg
END:VEVENT
END:VCALENDAR