BEGIN:VCALENDAR
VERSION:2.0
PRODID:-//Mary Wesley - ECPv6.13.2.1//NONSGML v1.0//EN
CALSCALE:GREGORIAN
METHOD:PUBLISH
X-WR-CALNAME:Mary Wesley
X-ORIGINAL-URL:https://www.marywesley.com
X-WR-CALDESC:Events for Mary Wesley
REFRESH-INTERVAL;VALUE=DURATION:PT1H
X-Robots-Tag:noindex
X-PUBLISHED-TTL:PT1H
BEGIN:VTIMEZONE
TZID:UTC
BEGIN:STANDARD
TZOFFSETFROM:+0000
TZOFFSETTO:+0000
TZNAME:UTC
DTSTART:20240101T000000
END:STANDARD
END:VTIMEZONE
BEGIN:VEVENT
DTSTART;TZID=UTC:20260307T200000
DTEND;TZID=UTC:20260307T230000
DTSTAMP:20260423T223449
CREATED:20251024T213944Z
LAST-MODIFIED:20251024T213944Z
UID:7200-1772913600-1772924400@www.marywesley.com
SUMMARY:Montpelier Contra Dance with Stove Dragon! 🐉
DESCRIPTION:Music by Stove Dragon!
URL:https://www.marywesley.com/gig/montpelier-contra-dance-with-stove-dragon-%f0%9f%90%89/
LOCATION:Capital City Grange\, 6612 VT Route 12\, Berlin\, 05602\, United States
CATEGORIES:Contra
ATTACH;FMTTYPE=image/jpeg:https://www.marywesley.com/wp-content/uploads/2025/07/IMG_8849-scaled.jpg
ORGANIZER;CN="Montpelier Contra Dance":MAILTO:cdu.tim@gmail.com
END:VEVENT
BEGIN:VEVENT
DTSTART;TZID=UTC:20260221T183000
DTEND;TZID=UTC:20260221T213000
DTSTAMP:20260423T223449
CREATED:20251107T140431Z
LAST-MODIFIED:20251107T140431Z
UID:7215-1771698600-1771709400@www.marywesley.com
SUMMARY:Klez-Contra with Contra Montréal
DESCRIPTION:
URL:https://www.marywesley.com/gig/klez-contra-with-contra-montreal/
LOCATION:Patro Villeray\, 7355 Av Christophe-Colomb\, Montreal\, QC\, Canada
CATEGORIES:Contra
ATTACH;FMTTYPE=image/jpeg:https://www.marywesley.com/wp-content/uploads/2025/11/Contra-Montreal-logo.jpg
END:VEVENT
BEGIN:VEVENT
DTSTART;TZID=UTC:20260125T160000
DTEND;TZID=UTC:20260125T190000
DTSTAMP:20260423T223449
CREATED:20251024T213153Z
LAST-MODIFIED:20260115T153756Z
UID:7197-1769356800-1769367600@www.marywesley.com
SUMMARY:St. Johnsbury Contra
DESCRIPTION:Music by Blind Squirrel!
URL:https://www.marywesley.com/gig/st-johnsbury-contra/
LOCATION:St. Andrew’s Church\, 1265 Main Street\, St. Johnsbury\, VT\, 05819\, United States
CATEGORIES:Contra
ATTACH;FMTTYPE=image/png:https://www.marywesley.com/wp-content/uploads/2025/10/Screenshot-2026-01-15-at-10.37.00-AM.png
END:VEVENT
BEGIN:VEVENT
DTSTART;TZID=UTC:20260123T190000
DTEND;TZID=UTC:20260123T220000
DTSTAMP:20260423T223449
CREATED:20251024T212542Z
LAST-MODIFIED:20251024T212634Z
UID:7194-1769194800-1769205600@www.marywesley.com
SUMMARY:Queen City Contra Dance
DESCRIPTION:With music by Springtide! (Willy Clemetson\, Elsie Gawler\, Ethan Tischler)
URL:https://www.marywesley.com/gig/queen-city-contra-dance-2/
LOCATION:Shelburne Town Hall\, 5374 Shelburne Rd\, Shelburne\, VT\, United States
CATEGORIES:Contra
ATTACH;FMTTYPE=image/jpeg:https://www.marywesley.com/wp-content/uploads/2018/01/trad-camp-by-mark-e1606606182104.jpg
END:VEVENT
BEGIN:VEVENT
DTSTART;VALUE=DATE:20260102
DTEND;VALUE=DATE:20260104
DTSTAMP:20260423T223449
CREATED:20250605T021707Z
LAST-MODIFIED:20250605T021707Z
UID:7177-1767312000-1767484799@www.marywesley.com
SUMMARY:The Dancing Fish of Lake Santa Fe with Stomprocket 🚀
DESCRIPTION:Dance to Stomprocket!! \nFriday: 7-10 \nSaturday: 12-3 & 6-9
URL:https://www.marywesley.com/gig/the-dancing-fish-of-lake-santa-fe-with-stomprocket-%f0%9f%9a%80/
LOCATION:The Dancing Fish of Lake Santa Fe\, 24800 FL-26\, Melrose\, 32666\, United States
CATEGORIES:Dance Weekend
ATTACH;FMTTYPE=image/webp:https://www.marywesley.com/wp-content/uploads/2025/06/Dancing-Fish-.webp
ORGANIZER;CN="The Dancing Fish of Lake Santa Fe":MAILTO:events@dancingfish.dance
END:VEVENT
BEGIN:VEVENT
DTSTART;TZID=UTC:20251122T190000
DTEND;TZID=UTC:20251122T223000
DTSTAMP:20260423T223449
CREATED:20250503T163554Z
LAST-MODIFIED:20250503T163554Z
UID:7165-1763838000-1763850600@www.marywesley.com
SUMMARY:Hallowell — Kennebec Contra Dance
DESCRIPTION:Come dance with us in the beautiful Hallowell City Hall Ballroom on the fourth Saturday of the month. Contra Dancing has been a Maine tradition for over 300 years\, and it’s still fun and popular. We dance to awesome live music from some of the finest traditional musicians in Maine (and from away). All dances are taught and called\, and the basic step is just walking to the beat\, so it’s real easy to learn as you go. There is a brief newcomer’s orientation at the beginning of the dance if you get there at 7 pm. All ages and levels of experience are welcome. If it isn’t fun\, we’re not doing it right.
URL:https://www.marywesley.com/gig/hallowell-kennebec-contra-dance/
LOCATION:Hallowell City Hall Ballroom\, 1 Winthrop St\, Hallowell\, ME\, United States
CATEGORIES:Contra
ATTACH;FMTTYPE=image/png:https://www.marywesley.com/wp-content/uploads/2025/05/Hallowell-dance.png
END:VEVENT
BEGIN:VEVENT
DTSTART;TZID=UTC:20251121T080000
DTEND;TZID=UTC:20251121T230000
DTSTAMP:20260423T223449
CREATED:20250330T185904Z
LAST-MODIFIED:20250330T190037Z
UID:7152-1763712000-1763766000@www.marywesley.com
SUMMARY:Brooks Contra Dance
DESCRIPTION:Music from Mary Fraser and Friends!
URL:https://www.marywesley.com/gig/brooks-contra-dance/
LOCATION:Marsh River Theater\, 24 Monroe Hwy (Rte 139)\, Brooks\, ME\, United States
CATEGORIES:Contra
ATTACH;FMTTYPE=image/jpeg:https://www.marywesley.com/wp-content/uploads/2025/03/Brooks-contra.jpeg
END:VEVENT
BEGIN:VEVENT
DTSTART;TZID=UTC:20251120T193000
DTEND;TZID=UTC:20251120T220000
DTSTAMP:20260423T223449
CREATED:20250605T020900Z
LAST-MODIFIED:20250605T020900Z
UID:7171-1763667000-1763676000@www.marywesley.com
SUMMARY:Portland Intown Contra Dance
DESCRIPTION:Thursday dances start with a brief orientation for beginners at 7PM. Dancing continues from 7:30-10PM. \nPortland Intown Contra Dance enriches lives and cultivates a vibrant community through dance. \nOur series is delightful\, welcoming to all humans\, and a heck of a lot of fun. We gather every Thursday night for zesty\, joyful dancing on the peninsula in Portland\, Maine\, host special events\, and find ways to enjoy each other’s company when we’re not on the floor. We’re teaching and practicing traditions\, contributing to an evolving art form\, and welcoming new dancers to our community every week. \nWe dance with partners and with everybody in the room. It doesn’t matter what gender you are — you can boogie in both dance roles! \nCome alone or bring a friend!
URL:https://www.marywesley.com/gig/portland-intown-contra-dance/
LOCATION:State Street Church\, 159 State Street\, Portland\, ME\, United States
CATEGORIES:Contra
ATTACH;FMTTYPE=image/png:https://www.marywesley.com/wp-content/uploads/2025/06/PICDcalendaricon.png
END:VEVENT
BEGIN:VEVENT
DTSTART;VALUE=DATE:20251114
DTEND;VALUE=DATE:20251117
DTSTAMP:20260423T223449
CREATED:20250503T162622Z
LAST-MODIFIED:20250503T162622Z
UID:7158-1763078400-1763337599@www.marywesley.com
SUMMARY:Catalina Dance Weekend
DESCRIPTION:Catalina Dance Weekend will be held at the beautiful\, rustic Fox Landing on Catalina Island. \n\n\n\n\nPart of the Catalina Dance Weekend experience is an escape from the outside world\, to be submerged in the beauty of our contra community. Be prepared for NO CELL RECEPTION in camp. Landlines are available for emergency purposes\, and there is limited WiFi throughout camp.
URL:https://www.marywesley.com/gig/catalina-dance-weekend/
LOCATION:Fox Landing\, Catalina Island\, CA\, United States
CATEGORIES:Dance Weekend
ATTACH;FMTTYPE=image/jpeg:https://www.marywesley.com/wp-content/uploads/2025/05/Catalina.jpg
END:VEVENT
BEGIN:VEVENT
DTSTART;TZID=UTC:20251031T190000
DTEND;TZID=UTC:20251102T150000
DTSTAMP:20260423T223449
CREATED:20250217T222051Z
LAST-MODIFIED:20251024T222745Z
UID:7139-1761937200-1762095600@www.marywesley.com
SUMMARY:Hey Fever! Ottawa Dance Weekend
DESCRIPTION:With caller Will Mentor\, music from Good Company and River Road. \nHey Fever! is a full weekend of wonderful contra dancing from Friday night to Sunday afternoon. Lots of dancing\, some fun workshops\, shared meals and we always celebrate Halloween with our costume dance too! We love that so many out of town dancers join us for this total blast of a weekend.
URL:https://www.marywesley.com/gig/hey-fever-ottawa-dance-weekend/
LOCATION:Churchill Recreation Centre\, 345 Richmond Road\, Ottawa\, ON\, Canada
CATEGORIES:Contra,Dance Weekend
ATTACH;FMTTYPE=image/jpeg:https://www.marywesley.com/wp-content/uploads/2025/02/Hey-Fever-banner.jpg
END:VEVENT
BEGIN:VEVENT
DTSTART;TZID=UTC:20250913T080000
DTEND;TZID=UTC:20250913T170000
DTSTAMP:20260423T223449
CREATED:20250707T165409Z
LAST-MODIFIED:20250707T165409Z
UID:7184-1757750400-1757782800@www.marywesley.com
SUMMARY:Cornwall Contra Dance
DESCRIPTION:With music by Red Dog Riley
URL:https://www.marywesley.com/gig/cornwall-contra-dance/
LOCATION:CO
CATEGORIES:Contra
ATTACH;FMTTYPE=image/jpeg:https://www.marywesley.com/wp-content/uploads/2025/07/IMG_3080-scaled.jpg
END:VEVENT
BEGIN:VEVENT
DTSTART;TZID=UTC:20250906T200000
DTEND;TZID=UTC:20250906T230000
DTSTAMP:20260423T223449
CREATED:20250707T164416Z
LAST-MODIFIED:20250707T164416Z
UID:7181-1757188800-1757199600@www.marywesley.com
SUMMARY:Montpelier Contra Dance with Sycamore
DESCRIPTION:Music by Sycamore! (Cedar Stanistreet\, Michael Sokolovsky\, Samuel Foucher) \nThis is the annual challenge fundraiser dance to benefit the Capital City Grange! Regular admission. Donations large and small appreciated\, everyone welcome! There will be dessert at the break\, bring something to share if inspired to do so!\n\nNewcomers lesson at 7:45 pm; gender-neutral role terms used; and all dances taught. Please bring a pair of clean soft-soled shoes.\n\n$12 adults\, $5 kids/low-income\, $20 dance supporters.\nQuestions? 802-225-8921 or cdu.tim@gmail.com
URL:https://www.marywesley.com/gig/montpelier-contra-dance-with-sycamore/
LOCATION:Capital City Grange\, 6612 VT Route 12\, Berlin\, 05602\, United States
CATEGORIES:Contra
ATTACH;FMTTYPE=image/jpeg:https://www.marywesley.com/wp-content/uploads/2025/07/IMG_8849-scaled.jpg
ORGANIZER;CN="Montpelier Contra Dance":MAILTO:cdu.tim@gmail.com
END:VEVENT
BEGIN:VEVENT
DTSTART;TZID=UTC:20250826T190000
DTEND;TZID=UTC:20250826T210000
DTSTAMP:20260423T223449
CREATED:20250819T152759Z
LAST-MODIFIED:20250819T152759Z
UID:7189-1756234800-1756242000@www.marywesley.com
SUMMARY:“Honky Tonk Hoedown” and World's Largest (???) Square Dance!? with the Faux Paws\,  Bob Wagner & Friends.
DESCRIPTION:THE WORLD’S LARGEST (???) SQUARE DANCE – at the Champlain Valley Fair with Mary Wesley\, The Faux Paws & Friends\nTuesday\, August 26\, 7-9 pm\n\nAs part of a “Honky Tonk Hoedown” concert at the Champlain Valley Fair\, Vermont’s own Mary Wesley will be calling a square dance for the masses in an attempt to break the standing Guinness Book’s record for the world’s largest square dance. Currently the record stands at just over 1\,600 people. The Champlain Valley Fairgrounds dance floor can hold twice that\, and we intend to fill it!! (Note: the Guinness record-making-machinery wasn’t around in 1950 when over 15k people filled the streets with squares in Santa Monica\, CA!!)\n\nWill a new record be set in Vermont? Maybe!!?!!??! Will it be loads of fun? FOR SURE! Especially if we fill the crowd with some ringers from our amazing dance community.\n\nWith Mary’s calls and music from The Faux Paws and friends (Andrew VanNorstrand and Noah VanNorstrand + Kelsey Wells) what’s not to love? The square dance “moment” shares the bill with Burlington’s Bob Wagner & Friends and will take place about an hour into the show. Come early and bring your friends! For the grand finale Andrew\, Noah\, and Kelsey will join forces with Bob & Friends for a “Honky Tonk Super Jam!” Flash mob square dancing encouraged!\n\nTo boot\, the event will also be a benefit for NOFA-VT (Northeast Organic Farming Association of Vermont). Come kick your heels up and support our farmers!
URL:https://www.marywesley.com/gig/honky-tonk-hoedown-and-worlds-largest-square-dance-with-the-faux-paws-bob-wagner-friends/
LOCATION:Champlain Valley Expo and Fair Grounds\, 105 Pearl St\,\, Essex Junction\, Vermont\, 05452\, United States
CATEGORIES:Square Dance
ATTACH;FMTTYPE=image/jpeg:https://www.marywesley.com/wp-content/uploads/2025/08/HonkyTonk-Hoedown-scaled.jpg
END:VEVENT
BEGIN:VEVENT
DTSTART;TZID=UTC:20250811T150000
DTEND;TZID=UTC:20250817T100000
DTSTAMP:20260423T223449
CREATED:20250118T173220Z
LAST-MODIFIED:20250217T222540Z
UID:7100-1754924400-1755424800@www.marywesley.com
SUMMARY:Cascade of Music and Dance at Kweebec (Family Dance Camp Week)
DESCRIPTION:Cascade at Camp Kweebec\, located north of Philadelphia\, is a full week of music\, art\, and community for adults and families\, celebrating the living traditions of song and dance. Other staff include: Peter Amidon\, Mary Alice Amidon\, Sam Amidon\, Stefan Amidon\, Joanna Reiner Wilkinson\, Sophie Wellington\, Anna Patton\, Elvie Miller\, Elizabeth Laprelle\, Sally Jablonsky\, Danny Noveck\, Brian Dolphin\, Ben Schreiber\, and Karen Axelrod. \nLearn more and register here.
URL:https://www.marywesley.com/gig/cascade-of-music-and-dance-at-kweebec-family-dance-camp-week/
LOCATION:Camp Kweebec\, 157 Game Farm Rd\, Schwenksville\, PA\, 19473\, United States
CATEGORIES:Dance Weekend
ATTACH;FMTTYPE=image/jpeg:https://www.marywesley.com/wp-content/uploads/2025/01/Cascade-.jpg
END:VEVENT
BEGIN:VEVENT
DTSTART;TZID=UTC:20250725T190000
DTEND;TZID=UTC:20250725T220000
DTSTAMP:20260423T223449
CREATED:20250330T185247Z
LAST-MODIFIED:20250330T185247Z
UID:7147-1753470000-1753480800@www.marywesley.com
SUMMARY:Queen City Contra Dance
DESCRIPTION:With music from Fiona and Emmett Stowell!
URL:https://www.marywesley.com/gig/queen-city-contra-dance/
LOCATION:Shelburne Town Hall\, 5374 Shelburne Rd\, Shelburne\, VT\, United States
CATEGORIES:Contra
ATTACH;FMTTYPE=image/jpeg:https://www.marywesley.com/wp-content/uploads/2018/01/IMG_8253-e1516314442785.jpg
END:VEVENT
BEGIN:VEVENT
DTSTART;TZID=UTC:20250712T191500
DTEND;TZID=UTC:20250712T223000
DTSTAMP:20260423T223449
CREATED:20250118T172153Z
LAST-MODIFIED:20250217T222507Z
UID:7095-1752347700-1752359400@www.marywesley.com
SUMMARY:East Thetford Pavillion Contra Dance
DESCRIPTION:Music by Calico – Jesse Ball\, Eric Boodman\, and Casey Murray. Lesson at 7:15 pm.
URL:https://www.marywesley.com/gig/east-thetford-pavillion-contra-dance/
LOCATION:East Thetford Pavillion\, 140 Pavillion Road\, East Thetford\, VT\, 05043\, United States
CATEGORIES:Contra
ATTACH;FMTTYPE=image/jpeg:https://www.marywesley.com/wp-content/uploads/2025/01/East-Thetford-Pavillion.jpg
END:VEVENT
BEGIN:VEVENT
DTSTART;TZID=UTC:20250626T150000
DTEND;TZID=UTC:20250630T100000
DTSTAMP:20260423T223449
CREATED:20250118T171207Z
LAST-MODIFIED:20250118T171207Z
UID:7088-1750950000-1751277600@www.marywesley.com
SUMMARY:CDS-Boston Centre's July 4th Session at Pinewoods Camp
DESCRIPTION:This 5-day session at Pinewoods Camp in Plymouth\, MA celebrates both the depth of traditions and the exciting new possibilities in English and American music and dance. \nLearn more and register here.
URL:https://www.marywesley.com/gig/cds-boston-centres-july-4th-session-at-pinewoods-camp/
LOCATION:Pinewoods Camp\, 80 Cornish Field Road\, Plymouth\, VT\, 02360\, United States
CATEGORIES:Contra,Dance Weekend
ATTACH;FMTTYPE=image/jpeg:https://www.marywesley.com/wp-content/uploads/2025/01/Pinewoods-Pavillion.jpg
END:VEVENT
BEGIN:VEVENT
DTSTART;TZID=UTC:20250606T180000
DTEND;TZID=UTC:20250608T150000
DTSTAMP:20260423T223449
CREATED:20250217T200447Z
LAST-MODIFIED:20250217T222419Z
UID:7135-1749232800-1749394800@www.marywesley.com
SUMMARY:Lavender Country and Folk Dancers (LCFD) Spring Camp at Pinewoods
DESCRIPTION:A fun-filled weekend of dancing\, workshops\, crafts\, and social time with a warm community of LGBTQ+ and allied dancers and friends! \nBANDS: Calico (Jesse Ball\, Eric Boodman\, and Casey Murray)\, and Northwoods (Casey Murray\, Molly Tucker\, and Sam Zakon-Anderson) \nCALLERS: Mary Wesley (Contra)\, Imogen Mills (English)\, and Chris Ricciotti (a little of everything!) \n 
URL:https://www.marywesley.com/gig/lavender-country-and-folk-dancers-lcfd-spring-camp-at-pinewoods/
LOCATION:Pinewoods Camp\, 80 Cornish Field Road\, Plymouth\, VT\, 02360\, United States
CATEGORIES:Contra,Dance Weekend
ATTACH;FMTTYPE=image/jpeg:https://www.marywesley.com/wp-content/uploads/2025/02/Pinewoods-Dancers-2021-scaled.jpg
END:VEVENT
BEGIN:VEVENT
DTSTART;TZID=UTC:20250329T194500
DTEND;TZID=UTC:20250329T230000
DTSTAMP:20260423T223449
CREATED:20250118T170207Z
LAST-MODIFIED:20250118T170207Z
UID:7085-1743277500-1743289200@www.marywesley.com
SUMMARY:Montpelier Contra Dance
DESCRIPTION:Music by the Young Tradition Vermont Touring Group! \nLesson at 7:45 pm \nAdmission is $12 for adults\, $5 for kids or low-income\, $20 for dance supporters–choose the right price for your budget!
URL:https://www.marywesley.com/gig/montpelier-contra-dance-2/
LOCATION:CO
CATEGORIES:Contra
ATTACH;FMTTYPE=image/png:https://www.marywesley.com/wp-content/uploads/2025/01/YTV-TG-Contra.png
END:VEVENT
BEGIN:VEVENT
DTSTART;TZID=UTC:20250308T190000
DTEND;TZID=UTC:20250308T220000
DTSTAMP:20260423T223449
CREATED:20250217T194704Z
LAST-MODIFIED:20250217T222327Z
UID:7127-1741460400-1741471200@www.marywesley.com
SUMMARY:Surry Contra Dance
DESCRIPTION:Brief beginners lesson at 7pm. All ages welcome and no experience is necessary! All dances are taught & no need to bring a partner.\n\n\nMusic by the Gawler Family Band ❤️
URL:https://www.marywesley.com/gig/surry-contra-dance/
LOCATION:The Surry School Auditorium\, 754 North Bend Rd\, Surry\, ME\, United States
CATEGORIES:Contra
ATTACH;FMTTYPE=image/png:https://www.marywesley.com/wp-content/uploads/2025/02/Surry-Contra-Dance-and-Community-Dance-2024-Banner-3-3.png
END:VEVENT
BEGIN:VEVENT
DTSTART;TZID=UTC:20250307T200000
DTEND;TZID=UTC:20250307T230000
DTSTAMP:20260423T223449
CREATED:20250217T193728Z
LAST-MODIFIED:20250217T195010Z
UID:7124-1741377600-1741388400@www.marywesley.com
SUMMARY:Belfast Flying Shoes First Friday Dance
DESCRIPTION:Friday Evening Schedule\n6:00 pm ~ All Comers Band warms up\n6:30 pm ~ Community Dance with music by the All Comers Band and calling by Chrissy Fowler and Lisa Newcomb\n7:30 pm ~ Social Break\n8:00 pm ~ Contra Dance!
URL:https://www.marywesley.com/gig/belfast-flying-shoes-first-friday-dance/
LOCATION:First Church in Belfast UCC\, 8 Court Street\, Belfast\, ME\, 04915\, United States
CATEGORIES:Contra
ATTACH;FMTTYPE=image/png:https://www.marywesley.com/wp-content/uploads/2020/11/1-Web-home - Edited image w:posse.png
END:VEVENT
BEGIN:VEVENT
DTSTART;TZID=UTC:20250223T170000
DTEND;TZID=UTC:20250223T200000
DTSTAMP:20260423T223449
CREATED:20250118T165615Z
LAST-MODIFIED:20250202T185005Z
UID:7082-1740330000-1740340800@www.marywesley.com
SUMMARY:St. Johnsbury Contra Dance
DESCRIPTION:Music by Black Woods\, a captivating Celtic music duo from Bethlehem\, NH. Renée Blacken (fiddle) and David Van Houten (guitar/cittern.)\n\nWe’ll have a 30 minute break for a potluck supper\, so bring something to share if you’re able. Plan to bring clean\, soft-soled shoes to change into once you arrive.\n\nAdmission is by donation\, with suggested amounts of $15 per adult for regular admission and $20 per adult for admission as a supporting patron.\n\nSt. Andrew’s church is located at 1265 Main Street (between the Armory and the Colonial Arms apartments).
URL:https://www.marywesley.com/gig/st-johnsbury-contra-dance/
LOCATION:CO
CATEGORIES:Contra
ATTACH;FMTTYPE=image/jpeg:https://www.marywesley.com/wp-content/uploads/2025/01/St.-J-Contra-Dance-Photo.jpg
END:VEVENT
BEGIN:VEVENT
DTSTART;TZID=UTC:20250214T160000
DTEND;TZID=UTC:20250216T183000
DTSTAMP:20260423T223449
CREATED:20250119T212659Z
LAST-MODIFIED:20250119T212659Z
UID:7109-1739548800-1739730600@www.marywesley.com
SUMMARY:The Flurry - Leading Balfolk
DESCRIPTION:Leading balfolk and Breton dances with Malvenn! Calling some squares\, too 💃🏻 \nThe Flurry Festival is one of the largest traditional dance and music festivals in North America. It takes place over President’s Weekend in February in Saratoga Springs\, NY\, and typically draws roughly 4\,500 attendees and 400 performers. \n 
URL:https://www.marywesley.com/gig/the-flurry-leading-balfolk/
LOCATION:Saratoga Springs\, NY\, United States
CATEGORIES:Balfolk,Dance Weekend
ATTACH;FMTTYPE=image/jpeg:https://www.marywesley.com/wp-content/uploads/2025/01/The-Flury-2025.jpg
END:VEVENT
BEGIN:VEVENT
DTSTART;TZID=UTC:20250208T184500
DTEND;TZID=UTC:20250208T210000
DTSTAMP:20260423T223449
CREATED:20250118T164740Z
LAST-MODIFIED:20250118T164740Z
UID:7076-1739040300-1739048400@www.marywesley.com
SUMMARY:UVM Balfolk Dance
DESCRIPTION:Live music by Wheezer & Squeezer (Tim Cummings & Jeremiah McLane). Lesson at 6:45\, dance at 7:00. All dances taught. \nCo-hosted by UVM Contra Club\, UVM’s School of World Languages & Cultures\, and UVM’s French & Italian Program!
URL:https://www.marywesley.com/gig/uvm-balfolk-dance/
LOCATION:Mann Hall – UVM Campus\, 208 Colchester Ave\, Burlington\, VT\, 05401-4513\, United States
CATEGORIES:Balfolk
ATTACH;FMTTYPE=image/png:https://www.marywesley.com/wp-content/uploads/2025/01/Feb-8-UVM-Balfolk-Poster.png
ORGANIZER;CN="UVM Contra & Folk Dance Society":MAILTO:uvmcontra@gmail.com
END:VEVENT
BEGIN:VEVENT
DTSTART;TZID=UTC:20250118T080000
DTEND;TZID=UTC:20250118T230000
DTSTAMP:20260423T223449
CREATED:20241012T161247Z
LAST-MODIFIED:20241013T135216Z
UID:7072-1737187200-1737241200@www.marywesley.com
SUMMARY:Montpelier Contra Dance
DESCRIPTION:Music by Aaron Marcus and Joanne Garton
URL:https://www.marywesley.com/gig/montpelier-contra-dance/
LOCATION:Capital City Grange\, 6612 VT Route 12\, Berlin\, 05602\, United States
CATEGORIES:Contra
ATTACH;FMTTYPE=image/jpeg:https://www.marywesley.com/wp-content/uploads/2018/01/IMG_3240.jpg
ORGANIZER;CN="Montpelier Contra Dance":MAILTO:cdu.tim@gmail.com
END:VEVENT
BEGIN:VEVENT
DTSTART;VALUE=DATE:20241206
DTEND;VALUE=DATE:20241209
DTSTAMP:20260423T223449
CREATED:20241012T160806Z
LAST-MODIFIED:20241012T160806Z
UID:7068-1733443200-1733702399@www.marywesley.com
SUMMARY:The Dancing Fish of Lake Santa Fe
DESCRIPTION:A weekend of dancing on beautiful Lake Santa Fe in Melrose\, Florida. \nGaye Fifer & Mary Wesley + Kalos & Hot Coffee Breakdown. 3 days * 2 Great Bands * 2 National Callers * 16 hours of Dances! \n\nFriday 6-10 pm\nSaturday 12-4 pm\nSaturday 6-10 pm\nSunday 11 am-3 pm
URL:https://www.marywesley.com/gig/the-dancing-fish-of-lake-santa-fe/
LOCATION:The Dancing Fish of Lake Santa Fe\, 24800 FL-26\, Melrose\, 32666\, United States
CATEGORIES:Contra,Dance Weekend
ATTACH;FMTTYPE=image/jpeg:https://www.marywesley.com/wp-content/uploads/2024/10/Dancing-Fish-circle-dance-scaled.jpg
ORGANIZER;CN="The Dancing Fish of Lake Santa Fe":MAILTO:events@dancingfish.dance
END:VEVENT
BEGIN:VEVENT
DTSTART;TZID=UTC:20241101T193000
DTEND;TZID=UTC:20241101T220000
DTSTAMP:20260423T223449
CREATED:20241012T150953Z
LAST-MODIFIED:20241012T150953Z
UID:7046-1730489400-1730498400@www.marywesley.com
SUMMARY:Burlington Balfolk Party!
DESCRIPTION:Join us for a Burlington Balfolk party! This participatory dance form is fun and easy to learn\, especially with friendly instruction and hypnotic live music. All dances are taught by local dance leader Mary Wesley; no partner or prior experience needed. \n“Balfolk” refers to the recent revival of popular social dances from Western Europe\, with an emphasis on traditional “folk” dances from France. Bourrées\, an dros\, gavottes\, mazurkas\, waltzes\, scottishes — a mix of partner dances\, group dances\, entrancing chain dances. \nHailing from Vermont and Québec\, our band\, Triton\, offers music rooted in the traditional dance repertoire of Northwestern Europe\, moving body and soul alike. \nCurious about balfolk? Check out this great video introduction.
URL:https://www.marywesley.com/gig/burlington-balfolk-party/
LOCATION:Arts Riot\, 400 Pine Street\, Burlington\, VT\, 05401\, United States
CATEGORIES:Balfolk
ATTACH;FMTTYPE=image/jpeg:https://www.marywesley.com/wp-content/uploads/2024/10/Triton-Grand-Bal-photo-by-Brad-Hurley.jpg
END:VEVENT
BEGIN:VEVENT
DTSTART;TZID=UTC:20241026T190000
DTEND;TZID=UTC:20241026T213000
DTSTAMP:20260423T223449
CREATED:20241012T155924Z
LAST-MODIFIED:20241012T160827Z
UID:7065-1729969200-1729978200@www.marywesley.com
SUMMARY:UVM Contra Dance
DESCRIPTION:The UVM Contra & Folk Dance Society hosts this dance. Live music from Tom MacKenzie and friends!
URL:https://www.marywesley.com/gig/uvm-contra-dance/
LOCATION:Mann Hall – UVM Campus\, 208 Colchester Ave\, Burlington\, VT\, 05401-4513\, United States
CATEGORIES:Contra
ATTACH;FMTTYPE=image/jpeg:https://www.marywesley.com/wp-content/uploads/2018/01/by-Tom-MacKenzie.jpg
ORGANIZER;CN="UVM Contra & Folk Dance Society":MAILTO:uvmcontra@gmail.com
END:VEVENT
END:VCALENDAR