BEGIN:VCALENDAR
VERSION:2.0
PRODID:-//Mary Wesley - ECPv6.13.2.1//NONSGML v1.0//EN
CALSCALE:GREGORIAN
METHOD:PUBLISH
X-WR-CALNAME:Mary Wesley
X-ORIGINAL-URL:https://www.marywesley.com
X-WR-CALDESC:Events for Mary Wesley
REFRESH-INTERVAL;VALUE=DURATION:PT1H
X-Robots-Tag:noindex
X-PUBLISHED-TTL:PT1H
BEGIN:VTIMEZONE
TZID:UTC
BEGIN:STANDARD
TZOFFSETFROM:+0000
TZOFFSETTO:+0000
TZNAME:UTC
DTSTART:20240101T000000
END:STANDARD
END:VTIMEZONE
BEGIN:VEVENT
DTSTART;TZID=UTC:20241101T193000
DTEND;TZID=UTC:20241101T220000
DTSTAMP:20260424T092955
CREATED:20241012T150953Z
LAST-MODIFIED:20241012T150953Z
UID:7046-1730489400-1730498400@www.marywesley.com
SUMMARY:Burlington Balfolk Party!
DESCRIPTION:Join us for a Burlington Balfolk party! This participatory dance form is fun and easy to learn\, especially with friendly instruction and hypnotic live music. All dances are taught by local dance leader Mary Wesley; no partner or prior experience needed. \n“Balfolk” refers to the recent revival of popular social dances from Western Europe\, with an emphasis on traditional “folk” dances from France. Bourrées\, an dros\, gavottes\, mazurkas\, waltzes\, scottishes — a mix of partner dances\, group dances\, entrancing chain dances. \nHailing from Vermont and Québec\, our band\, Triton\, offers music rooted in the traditional dance repertoire of Northwestern Europe\, moving body and soul alike. \nCurious about balfolk? Check out this great video introduction.
URL:https://www.marywesley.com/gig/burlington-balfolk-party/
LOCATION:Arts Riot\, 400 Pine Street\, Burlington\, VT\, 05401\, United States
CATEGORIES:Balfolk
ATTACH;FMTTYPE=image/jpeg:https://www.marywesley.com/wp-content/uploads/2024/10/Triton-Grand-Bal-photo-by-Brad-Hurley.jpg
END:VEVENT
BEGIN:VEVENT
DTSTART;TZID=UTC:20241026T190000
DTEND;TZID=UTC:20241026T213000
DTSTAMP:20260424T092955
CREATED:20241012T155924Z
LAST-MODIFIED:20241012T160827Z
UID:7065-1729969200-1729978200@www.marywesley.com
SUMMARY:UVM Contra Dance
DESCRIPTION:The UVM Contra & Folk Dance Society hosts this dance. Live music from Tom MacKenzie and friends!
URL:https://www.marywesley.com/gig/uvm-contra-dance/
LOCATION:Mann Hall – UVM Campus\, 208 Colchester Ave\, Burlington\, VT\, 05401-4513\, United States
CATEGORIES:Contra
ATTACH;FMTTYPE=image/jpeg:https://www.marywesley.com/wp-content/uploads/2018/01/by-Tom-MacKenzie.jpg
ORGANIZER;CN="UVM Contra & Folk Dance Society":MAILTO:uvmcontra@gmail.com
END:VEVENT
END:VCALENDAR